BEGIN:VCALENDAR
VERSION:2.0
PRODID:-//Argiope - ECPv6.3.4//NONSGML v1.0//EN
CALSCALE:GREGORIAN
METHOD:PUBLISH
X-ORIGINAL-URL:https://argiope.fr
X-WR-CALDESC:évènements pour Argiope
REFRESH-INTERVAL;VALUE=DURATION:PT1H
X-Robots-Tag:noindex
X-PUBLISHED-TTL:PT1H
BEGIN:VTIMEZONE
TZID:Europe/Paris
BEGIN:DAYLIGHT
TZOFFSETFROM:+0100
TZOFFSETTO:+0200
TZNAME:CEST
DTSTART:20240331T010000
END:DAYLIGHT
BEGIN:STANDARD
TZOFFSETFROM:+0200
TZOFFSETTO:+0100
TZNAME:CET
DTSTART:20241027T010000
END:STANDARD
END:VTIMEZONE
BEGIN:VEVENT
DTSTART;TZID=Europe/Paris:20240612T093000
DTEND;TZID=Europe/Paris:20240612T120000
DTSTAMP:20260419T181631
CREATED:20240611T123219Z
LAST-MODIFIED:20240611T124730Z
UID:443-1718184600-1718193600@argiope.fr
SUMMARY:Le Club Nature de la Possiblerie
DESCRIPTION:Argiope s’allie à la Possiblerie pour créer un club Nature familles à Lapouyade. Venez grossir les rangs et participer à un incroyable aventure.Habituellement organisé les mercredis après-midi\, cette semaine\, c’est en matinée. Un horaire mieux adapté ? Nous le saurons demain.
URL:https://argiope.fr/event/un-club-nature-a-la-possiblerie/
ATTACH;FMTTYPE=image/png:https://argiope.fr/wp-content/uploads/2024/04/entete_Club-Nature.png
ORGANIZER;CN="La possiblerie":MAILTO:lapossiblerie@gmail.com
END:VEVENT
BEGIN:VEVENT
DTSTART;TZID=Europe/Paris:20240608T150000
DTEND;TZID=Europe/Paris:20240608T173000
DTSTAMP:20260419T181631
CREATED:20240412T101700Z
LAST-MODIFIED:20240412T101749Z
UID:366-1717858800-1717867800@argiope.fr
SUMMARY:Fête locale de St Loubès : Balade création artistique Orchidées
DESCRIPTION:Accompagnés par notre guide naturaliste et une plasticienne du Nord Gironde\, vous aborderez les orchidées par le regard de l’artiste. Marie guidera vos gestes dans l’apprentissage de l’aquarelle tandis que Karine vous initiera à l’identification de ces plantes formidables. Vous découvrirez leur cycle de vie\, apprendrez à les identifier et à les observer. \nTout le matériel nécessaire à l’observation et à l’élaboration de vos œuvres vous sera fourni sur place : loupes\, boites loupes\, guides d’identification\, matériel de dessin. \nVous pourrez repartir avec vos œuvres sous la forme d’un livret de terrain.
URL:https://argiope.fr/event/fete-locale-de-st-loubes-balade-creation-artistique-orchidees/
LOCATION:Saint Loubès\, Saint Loubès\, 33450
CATEGORIES:sortie Grand Public
ATTACH;FMTTYPE=image/jpeg:https://argiope.fr/wp-content/uploads/2024/04/premiere-ophrys.jpg
ORGANIZER;CN="Evad&Vous":MAILTO:contact@evadetvous33.fr
END:VEVENT
BEGIN:VEVENT
DTSTART;TZID=Europe/Paris:20240505T143000
DTEND;TZID=Europe/Paris:20240505T173000
DTSTAMP:20260419T181631
CREATED:20240412T102648Z
LAST-MODIFIED:20240412T102651Z
UID:376-1714919400-1714930200@argiope.fr
SUMMARY:Balade découverte des orchidées et aquarelles
DESCRIPTION:Accompagnés par notre guide naturaliste et Alina Casaverde\, plasticienne du Nord Gironde\, vous aborderez les orchidées par le regard de l’artiste. Alina guidera vos gestes dans l’apprentissage de l’aquarelle tandis que Karine vous initiera à l’identification de ces plantes formidables. \nTout le matériel nécessaire à l’observation et à l’élaboration de vos œuvres vous sera fourni sur place : loupes\, boites loupes\, guides d’identification\, matériel de dessin. \nVous pourrez repartir avec votre livret de croquis.
URL:https://argiope.fr/event/balade-decouverte-des-orchidees-et-aquarelles/
LOCATION:Tertre de Thouil\, Lugon et d'Ile du Carnay\, 33240
CATEGORIES:sortie Grand Public
ATTACH;FMTTYPE=image/jpeg:https://argiope.fr/wp-content/uploads/2024/04/premiere-ophrys.jpg
END:VEVENT
BEGIN:VEVENT
DTSTART;TZID=Europe/Paris:20240504T140000
DTEND;TZID=Europe/Paris:20240504T160000
DTSTAMP:20260419T181631
CREATED:20240412T095804Z
LAST-MODIFIED:20240412T100015Z
UID:362-1714831200-1714838400@argiope.fr
SUMMARY:Ateliers éco-citoyens familles : A la découverte des plantes : fabrique et alimente ton herbier
DESCRIPTION:Fabrique ta presse et ton herbier à St Denis de Pile au printemps. Viens découvrir la flore environnante et repars avec ta presse et ton herbier. Votre guide vous donnera toutes les pistes pour récolter les plantes dans le respect de la Nature et les conserver dans les meilleures conditions. \nTout le matériel nécessaire à l’élaboration de la presse sera fourni par Argiope (planchettes\, visserie\, buvards\, intercalaires\, …) et vous pourrez repartir avec.\nLoupe\, boîtes-loupes\, sachets de recueil\, guide d’identification\, seront également mis à disposition en prêt.
URL:https://argiope.fr/event/ateliers-eco-citoyens-familles-a-al-decouverte-des-plantes-fabrique-et-alimente-ton-herbier/
LOCATION:Bôma\, 1 Route de Guîtres\, Saint Denis de Pile\, 33910\, France
CATEGORIES:sortie Grand Public
ATTACH;FMTTYPE=image/jpeg:https://argiope.fr/wp-content/uploads/2024/04/copie_herbier-scaled.jpg
ORGANIZER;CN="Portraits de Familles":MAILTO:animationfamilles@portraitsdefamilles-csc.fr
END:VEVENT
BEGIN:VEVENT
DTSTART;TZID=Europe/Paris:20240413T140000
DTEND;TZID=Europe/Paris:20240413T160000
DTSTAMP:20260419T181631
CREATED:20240412T092941Z
LAST-MODIFIED:20240412T102218Z
UID:354-1713016800-1713024000@argiope.fr
SUMMARY:Atelier éco-citoyen famille : jeux et jouets de Nature
DESCRIPTION:Venez en famille sillonner le sentier de randonnée\, où la Nature est bien présente. Vous souhaitez apprendre à décrypter la Nature de façon ludique ? Cet atelier est fait pour vous et votre famille. Vous construirez des jouets et participerez à des jeux réalisés avec des éléments naturels\, accompagnés par notre guide naturaliste. \nL’outillage et le matériel nécessaire à l’élaboration des jouets et jeux seront fournis. S’équiper de bonne chaussures\, voire de bottes et vêtements adaptés.
URL:https://argiope.fr/event/atelier-eco-citoyen-famille-jeux-et-jouets-de-nature/
LOCATION:Bôma\, 1 Route de Guîtres\, Saint Denis de Pile\, 33910\, France
CATEGORIES:sortie Grand Public
ATTACH;FMTTYPE=image/jpeg:https://argiope.fr/wp-content/uploads/2024/04/jouets-scaled.jpg
ORGANIZER;CN="Portraits de Familles":MAILTO:animationfamilles@portraitsdefamilles-csc.fr
END:VEVENT
BEGIN:VEVENT
DTSTART;TZID=Europe/Paris:20240324T140000
DTEND;TZID=Europe/Paris:20240324T170000
DTSTAMP:20260419T181631
CREATED:20240226T103658Z
LAST-MODIFIED:20240226T105801Z
UID:271-1711288800-1711299600@argiope.fr
SUMMARY:Journée Internationale des forêts : L’internet de la Forêt\, la place de l’arbre dans l’écosystème forestier
DESCRIPTION:Cette balade vous emmène au cœur de la forêt de la Double pour découvrir le milieu forestier.  La forêt est un écosystème : elle regroupe un ensemble d’êtres vivants\, très variés\, vivant en communauté ! Les arbres sont au centre de ce système. Par leur taille et leur longévité\, ils constituent la « clé de voûte » et constituent le milieu qui va héberger tout le cortège des autres organismes vivants … Venez découvrir le rôle essentiel que ces derniers occupent dans nos forêts\, accompagné d’une guide nature. Cette sortie est organisée dans le cadre de la Journée Internationale des forêts. \nQu’est-ce que la Journée Internationale des forêts ? En France\, la Journée Internationale des Forêts est une occasion de célébrer la forêt\, l’arbre et le bois\, et sensibiliser à la multifonctionnalité des forêts. Véritable « poumon vert »\, notamment au sein des zones les plus urbanisées\, la forêt est une source de respiration et de bien-être. \nTout public – Enfants à partir de 8 ans  \nGratuit\nSur inscription obligatoire\, nombre de participants limité \n  \n 
URL:https://argiope.fr/event/journee-internationale-des-forets/
LOCATION:Lacs des Vergnes\, Laruscade\, Gironde\, 33620\, France
ORGANIZER;CN="Office de tourisme Latitude Nord Gironde":MAILTO:05 57 58 47 79
END:VEVENT
BEGIN:VEVENT
DTSTART;TZID=Europe/Paris:20240309T190000
DTEND;TZID=Europe/Paris:20240309T210000
DTSTAMP:20260419T181631
CREATED:20240226T104845Z
LAST-MODIFIED:20240226T105703Z
UID:279-1710010800-1710018000@argiope.fr
SUMMARY:Chouette\, une sortie  chouettes !
DESCRIPTION:Quand la nuit tombe\, des milliers de paires d’yeux s’ouvrent … C’est accompagné d’une guide nature que vous partirez à la découverte du royaume des chouettes. Si vous avez de la chance\, vous pourrez les observer en activité. Vous apprendrez à différencier les espèces de notre territoire et découvrir la multitude d’espèces nocturnes qui sillonnent nos campagnes. Observez et écoutez la nature qui vous entoure. La nuit s’anime alors d’une multitude de sons et de mouvement\, à vous d’ouvrir grands vos yeux pour les voir !\nTout public – Enfants à partir de 8 ans
URL:https://argiope.fr/event/chouette-une-sortie-chouettes/
LOCATION:Parking de la mairie\, Marcenais\, Parking de la Mairie\, Marcenais\, 33620
CATEGORIES:sortie Grand Public
ATTACH;FMTTYPE=image/jpeg:https://argiope.fr/wp-content/uploads/2024/02/cropped-6102d17a212fba1d31670da6.jpg
ORGANIZER;CN="Office de tourisme Latitude Nord Gironde":MAILTO:05 57 58 47 79
END:VEVENT
END:VCALENDAR